BEGIN:VCALENDAR
VERSION:2.0
PRODID:icalendar-ruby
CALSCALE:GREGORIAN
METHOD:PUBLISH
BEGIN:VEVENT
DTSTAMP:20260423T221619Z
UID:75-1937965@delightfirstmbc.com
DTSTART:20261015T000000Z
DTEND:20261015T010000Z
CLASS:PUBLIC
CREATED:20260423T145747
DESCRIPTION:
LAST-MODIFIED:20260423T145747
LOCATION:
SUMMARY:Mid-Week Bible Study
URL;VALUE=URI:https://www.delightfirstmbc.com/events/mid-week-bible-study/2
 026-10-14
END:VEVENT
END:VCALENDAR
