BEGIN:VCALENDAR
VERSION:2.0
PRODID:icalendar-ruby
CALSCALE:GREGORIAN
METHOD:PUBLISH
BEGIN:VEVENT
DTSTAMP:20260423T204336Z
UID:75-1937964@delightfirstmbc.com
DTSTART:20261008T000000Z
DTEND:20261008T010000Z
CLASS:PUBLIC
CREATED:20260423T145747
DESCRIPTION:
LAST-MODIFIED:20260423T145747
LOCATION:
SUMMARY:Mid-Week Bible Study
URL;VALUE=URI:https://www.delightfirstmbc.com/events/mid-week-bible-study/2
 026-10-07
END:VEVENT
END:VCALENDAR
