BEGIN:VCALENDAR
VERSION:2.0
PRODID:icalendar-ruby
CALSCALE:GREGORIAN
METHOD:PUBLISH
BEGIN:VEVENT
DTSTAMP:20260423T191132Z
UID:75-1936923@delightfirstmbc.com
DTSTART:20261001T000000Z
DTEND:20261001T010000Z
CLASS:PUBLIC
CREATED:20260423T120105
DESCRIPTION:
LAST-MODIFIED:20260423T120105
LOCATION:
SUMMARY:Mid-Week Bible Study
URL;VALUE=URI:https://www.delightfirstmbc.com/events/mid-week-bible-study/2
 026-09-30
END:VEVENT
END:VCALENDAR
