BEGIN:VCALENDAR
VERSION:2.0
PRODID:icalendar-ruby
CALSCALE:GREGORIAN
METHOD:PUBLISH
BEGIN:VEVENT
DTSTAMP:20260423T160855Z
UID:75-1935881@delightfirstmbc.com
DTSTART:20260917T000000Z
DTEND:20260917T010000Z
CLASS:PUBLIC
CREATED:20260423T090702
DESCRIPTION:
LAST-MODIFIED:20260423T090702
LOCATION:
SUMMARY:Mid-Week Bible Study
URL;VALUE=URI:https://www.delightfirstmbc.com/events/mid-week-bible-study/2
 026-09-16
END:VEVENT
END:VCALENDAR
