BEGIN:VCALENDAR
VERSION:2.0
PRODID:icalendar-ruby
CALSCALE:GREGORIAN
METHOD:PUBLISH
BEGIN:VEVENT
DTSTAMP:20260423T125703Z
UID:75-1934839@delightfirstmbc.com
DTSTART:20260903T000000Z
DTEND:20260903T010000Z
CLASS:PUBLIC
CREATED:20260423T061244
DESCRIPTION:
LAST-MODIFIED:20260423T061244
LOCATION:
SUMMARY:Mid-Week Bible Study
URL;VALUE=URI:https://www.delightfirstmbc.com/events/mid-week-bible-study/2
 026-09-02
END:VEVENT
END:VCALENDAR
