BEGIN:VCALENDAR
VERSION:2.0
PRODID:icalendar-ruby
CALSCALE:GREGORIAN
METHOD:PUBLISH
BEGIN:VEVENT
DTSTAMP:20260423T112857Z
UID:75-1934838@delightfirstmbc.com
DTSTART:20260827T000000Z
DTEND:20260827T010000Z
CLASS:PUBLIC
CREATED:20260423T061244
DESCRIPTION:
LAST-MODIFIED:20260423T061244
LOCATION:
SUMMARY:Mid-Week Bible Study
URL;VALUE=URI:https://www.delightfirstmbc.com/events/mid-week-bible-study/2
 026-08-26
END:VEVENT
END:VCALENDAR
