BEGIN:VCALENDAR
VERSION:2.0
PRODID:icalendar-ruby
CALSCALE:GREGORIAN
METHOD:PUBLISH
BEGIN:VEVENT
DTSTAMP:20260423T095712Z
UID:75-1933797@delightfirstmbc.com
DTSTART:20260820T000000Z
DTEND:20260820T010000Z
CLASS:PUBLIC
CREATED:20260422T204310
DESCRIPTION:
LAST-MODIFIED:20260422T204310
LOCATION:
SUMMARY:Mid-Week Bible Study
URL;VALUE=URI:https://www.delightfirstmbc.com/events/mid-week-bible-study/2
 026-08-19
END:VEVENT
END:VCALENDAR
